BEGIN:VCALENDAR
VERSION:2.0
PRODID:-//Ville d&#039;Hardricourt - ECPv6.15.20//NONSGML v1.0//EN
CALSCALE:GREGORIAN
METHOD:PUBLISH
X-WR-CALNAME:Ville d&#039;Hardricourt
X-ORIGINAL-URL:https://hardricourt.fr
X-WR-CALDESC:Évènements pour Ville d&#039;Hardricourt
REFRESH-INTERVAL;VALUE=DURATION:PT1H
X-Robots-Tag:noindex
X-PUBLISHED-TTL:PT1H
BEGIN:VTIMEZONE
TZID:UTC
BEGIN:STANDARD
TZOFFSETFROM:+0000
TZOFFSETTO:+0000
TZNAME:UTC
DTSTART:20230101T000000
END:STANDARD
END:VTIMEZONE
BEGIN:VEVENT
DTSTART;TZID=UTC:20241209T080000
DTEND;TZID=UTC:20250117T170000
DTSTAMP:20260424T152543
CREATED:20241205T141146Z
LAST-MODIFIED:20241205T141146Z
UID:7985-1733731200-1737133200@hardricourt.fr
SUMMARY:Les colis de Noël pour nos séniors sont arrivés
DESCRIPTION:
URL:https://hardricourt.fr/agenda/les-colis-de-noel-pour-nos-seniors-sont-arrives
LOCATION:Mairie Hardricourt\, 33 rue Guillaume Beaumont\, Hardricourt
ATTACH;FMTTYPE=image/png:https://hardricourt.fr/wp-content/uploads/2024/12/colisnoel.png
END:VEVENT
END:VCALENDAR