BEGIN:VCALENDAR
VERSION:2.0
PRODID:-//Ville d&#039;Hardricourt - ECPv6.15.20//NONSGML v1.0//EN
CALSCALE:GREGORIAN
METHOD:PUBLISH
X-WR-CALNAME:Ville d&#039;Hardricourt
X-ORIGINAL-URL:https://hardricourt.fr
X-WR-CALDESC:Évènements pour Ville d&#039;Hardricourt
REFRESH-INTERVAL;VALUE=DURATION:PT1H
X-Robots-Tag:noindex
X-PUBLISHED-TTL:PT1H
BEGIN:VTIMEZONE
TZID:UTC
BEGIN:STANDARD
TZOFFSETFROM:+0000
TZOFFSETTO:+0000
TZNAME:UTC
DTSTART:20240101T000000
END:STANDARD
END:VTIMEZONE
BEGIN:VEVENT
DTSTART;TZID=UTC:20250714T190000
DTEND;TZID=UTC:20250714T233000
DTSTAMP:20260419T123828
CREATED:20250619T101651Z
LAST-MODIFIED:20250710T073634Z
UID:8903-1752519600-1752535800@hardricourt.fr
SUMMARY:Fête nationale à Hardricourt
DESCRIPTION:Partez à la découverte du parcours architectural de la commune d’Hardricourt
URL:https://hardricourt.fr/agenda/fete-nationale-a-hardricourt
LOCATION:Mairie Hardricourt\, 33 rue Guillaume Beaumont\, Hardricourt
CATEGORIES:Fête nationale
END:VEVENT
END:VCALENDAR